BEGIN:VCALENDAR
VERSION:2.0
PRODID:-//NVC Boston - ECPv6.15.20//NONSGML v1.0//EN
CALSCALE:GREGORIAN
METHOD:PUBLISH
X-WR-CALNAME:NVC Boston
X-ORIGINAL-URL:https://www.nvcboston.org
X-WR-CALDESC:Events for NVC Boston
REFRESH-INTERVAL;VALUE=DURATION:PT1H
X-Robots-Tag:noindex
X-PUBLISHED-TTL:PT1H
BEGIN:VTIMEZONE
TZID:America/New_York
BEGIN:DAYLIGHT
TZOFFSETFROM:-0500
TZOFFSETTO:-0400
TZNAME:EDT
DTSTART:20150308T070000
END:DAYLIGHT
BEGIN:STANDARD
TZOFFSETFROM:-0400
TZOFFSETTO:-0500
TZNAME:EST
DTSTART:20151101T060000
END:STANDARD
BEGIN:DAYLIGHT
TZOFFSETFROM:-0500
TZOFFSETTO:-0400
TZNAME:EDT
DTSTART:20160313T070000
END:DAYLIGHT
BEGIN:STANDARD
TZOFFSETFROM:-0400
TZOFFSETTO:-0500
TZNAME:EST
DTSTART:20161106T060000
END:STANDARD
BEGIN:DAYLIGHT
TZOFFSETFROM:-0500
TZOFFSETTO:-0400
TZNAME:EDT
DTSTART:20170312T070000
END:DAYLIGHT
BEGIN:STANDARD
TZOFFSETFROM:-0400
TZOFFSETTO:-0500
TZNAME:EST
DTSTART:20171105T060000
END:STANDARD
BEGIN:DAYLIGHT
TZOFFSETFROM:-0500
TZOFFSETTO:-0400
TZNAME:EDT
DTSTART:20180311T070000
END:DAYLIGHT
BEGIN:STANDARD
TZOFFSETFROM:-0400
TZOFFSETTO:-0500
TZNAME:EST
DTSTART:20181104T060000
END:STANDARD
END:VTIMEZONE
BEGIN:VEVENT
DTSTART;TZID=America/New_York:20170318T100000
DTEND;TZID=America/New_York:20170318T170000
DTSTAMP:20260425T175003
CREATED:20121216T201221Z
LAST-MODIFIED:20170227T161533Z
UID:626-1489831200-1489856400@www.nvcboston.org
SUMMARY:The Alchemy of Relationships: Empathy & Self Expression
DESCRIPTION:The Alchemy of Relationship – Empathy and Self-Expression \nIn this day-long NVC workshop\, based on the work of Marshall Rosenberg\, we will focus on the NVC skills and practices of empathy and self expression. \nWould you like to… \n\nKnow how to ask for what you want while deepening your connection with others?\n\n\nGain greater confidence in how you respond to annoyance\, fear\, impatience?\n\n\nPractice how to express your own needs while also caring about the needs of your partner?\n\nAt the foundation of a healthy relationship is the ability to show up authentically while also holding awareness of the other person’s experience. Through the practice of empathy and self-expression\, we can transform situations\, and relationships\, by owning the fullness of our experience in terms of our own feelings and needs\, and then expressing that without blame or criticism. \nThe workshop is open to those who are new to NVC as well as to those with NVC experience. The day will be a balanced combination of group instruction\, partner work and simple structured role-plays. \nMarch 18\, 2017   ~   10a-5p \nFriends  Meeting House\, 5 Longfellow Park\, Cambridge\, MA \nIf you are not already familiar with NVC\, you can take the NVC Academy online introduction\, or read the first 8 chapters of Marshall B. Rosenberg’s book\, Nonviolent Communication: A Language of Life. \nTO REGISTER: \nemail:  gcarroll@nvcboston.org \nAnd send a check for $125 to: \nNVCBoston \n49 Fairview Ave \nWatertown\,MA 02472 \n  \n  \n  \n  \n 
URL:https://www.nvcboston.org/event/self-expression-and-empathy-the-alchemy-of-relationship/
LOCATION:Friends Meeting House\, 5 Longfellow\, Cambridge\, MA\, United States
CATEGORIES:Workshop
ORGANIZER;CN="NVC Boston":MAILTO:gcarroll@nvcboston.org
END:VEVENT
BEGIN:VEVENT
DTSTART;TZID=America/New_York:20170121T100000
DTEND;TZID=America/New_York:20170121T170000
DTSTAMP:20260425T175003
CREATED:20161007T182645Z
LAST-MODIFIED:20161103T102118Z
UID:2545-1484992800-1485018000@www.nvcboston.org
SUMMARY:The Art of Empathy ~ A day long interactive workshop
DESCRIPTION:An interactive\, daylong communication workshop based on the work of Marshall Rosenberg. \nWould you like to increase your ability to empathize in the moment with yourself and others?\nDo you seem to have an intellectual understanding of NVC — maybe you have read the book or watched some videos — yet you still struggle to access compassion in the daily conflicts of life? \nPlease consider joining us for this day in which we will focus on transforming any judgmental thought by translating it into feelings and needs.\nIn group exercises and structured role plays you will be answering these two crucial questions:\nWhen I am judging something as wrong what emotion am I feeling and what values of mine are at stake?\nAnd that person who is doing/saying that thing I hate/fear\, what need are they trying to meet\, just like me?\nExperiencing these two transformative questions is the basis for an empathic relationship to oneself and others. It is also crucial in any productive dialogue or negotiation: we need to understand ourselves and hear others. \nThis workshop is designed for anyone new to NVC\, as well as for anyone with NVC experience that wishes to practice and deepen empathy skills. It is all about having access to empathy for ourselves and others in the moments when we need it most! \nCost: $125 \nTo Register: please send a check for $125.00 to NVCBoston\, 49 Fairview Ave\, Watertown\, MA 02472 \nor \nsend payment to paypal: payments@nvcboston.org\nFriend’s Meeting HouseLongfellow Park\, Cambridge\, MA 02138 \nJanuary 21\, 10a-5p\nQuestions: email gcarroll@nvcboston.org
URL:https://www.nvcboston.org/event/nvc-workshop/
LOCATION:Friends Meeting House\, 5 Longfellow\, Cambridge\, MA\, United States
ORGANIZER;CN="Gail Carroll":MAILTO:GCARROLL@NVCBOSTON.ORG
END:VEVENT
BEGIN:VEVENT
DTSTART;TZID=America/New_York:20161217T093000
DTEND;TZID=America/New_York:20161217T130000
DTSTAMP:20260425T175003
CREATED:20160908T002952Z
LAST-MODIFIED:20161128T022545Z
UID:2498-1481967000-1481979600@www.nvcboston.org
SUMMARY:MAKING REQUESTS: Bringing Needs to Life
DESCRIPTION:Making Requests – Half-day Skill Building Workshop \n\nDo you want a greater sense of power in your life?\nDoes not knowing what you’d ask for keep you from making requests?\nWould you like to know how to ask for what you want while deepening your connection with others?\n\nThis NVC skill building class will explore insights about living a life of self connection and interdependence\, with a focus on requests –\nthe 4th element of the NVC model. It will include practices you can use on a daily basis to continue to increase your NVC skills. \nIt is through our requests that we engage the world. Even in ‘small’ interactions it is crucial to understand this invitation to contribute and co- create a new reality. Through requests we imagine what form our needs could take\, and with the input form the other what new form of formlessness that can merge from form. \nSome of the things we will be exploring:\nAsking clearly for levels of agreement\nMaking do-able requests\nBrainstorming strategies to meet your need\nUsing connection requests to maintain a dialogue.\nThis is an interactive\, experiential workshop that will include practices you can use on a daily basis to continue to increase your NVC skills. \nThis morning workshop will be led by Gail Carroll and Paul Merrill. \nDecember 17\, 2016\n9:30a – 1p\nFriends Meeting House\n5 Longfellow Place\, Cambridge\, Ma \n$75 ( 10% discount if registered by December 10) \nTo register for early discount\, pls email gcarroll@nvcboston.org \nRegister
URL:https://www.nvcboston.org/event/half-day-nvc-workshop/
LOCATION:Friends Meeting House\, 5 Longfellow\, Cambridge\, MA\, United States
ORGANIZER;CN="NVC Boston":MAILTO:gcarroll@nvcboston.org
END:VEVENT
BEGIN:VEVENT
DTSTART;TZID=America/New_York:20161119T100000
DTEND;TZID=America/New_York:20161119T170000
DTSTAMP:20260425T175003
CREATED:20160908T002734Z
LAST-MODIFIED:20161111T223211Z
UID:2496-1479549600-1479574800@www.nvcboston.org
SUMMARY:Post Election Empathy ~Listening for what Matters
DESCRIPTION:We will be donating 100% of profits coming from this workshop to a social justice cause that may be jeopardized by the recent election.  Charity to be determined after polling for input form class participants.  \nAn interactive\, daylong communication workshop based on the work of Marshall Rosenberg. \nThis month NVC Boston will be focusing on politics: a place where we rarely feel that people with different opinions are as fully human as ourselves. \nWe are inclined to trust completely the correctness of our opinion\, and to ascribe stupidity or maliciousness to those who believe differently. We flock to find agreement and validation\, avoiding conversation or even contact w the ‘others’. If we do have conversations they quickly become a futile exchange of ‘fact’s\, which\, to our surprise\, are almost completely ineffective at changing/transforming positions \nPaul and Gail will be teaching together this month. With both of them in the room there will more opportunities for coaching support\, as well as witnessing NVC in collaborative leading and conversational role plays. This class will be a multi-level class\, appropriate for beginners as well as students w NVC experience. All of us can use support in softening the judgments that prevent reconciliation and change.\nWhile we will be using political content as a place to explore transforming our judgments into needs\, while understanding the stories and suffering of our “opponents”\, any student can use their content of choice in the participatory exercises.\nThis workshop is designed for anyone new to NVC\, as well as for anyone with NVC experience that wishes to practice and deepen NVC skills. \nWhile we will be using politics as a trigger\, what we learn and practice in this workshop  can be used in a wide variety of real-life situations\, and in most all relationships\, from intimate to professional. \nBy understanding and acknowledging the human needs that underlie everyone’s words and actions\, we can create a shared basis for connection\, cooperation\, and peace. \nSome of the topics will be: \n\nListening for what matters\nreflecting what you hear\, not what you think\nUsing your judgments to discover your needs\nSelf-expressing authentically without blame\n\nThe day will be a balanced combination of group instruction\, partner work and structured role play. \nFacilitated by CNVC certified trainer Gail Carroll and Paul Merrill \nCost: $115  profits to be donated to social justice charity \nYou can register online\, or  send a check to NVCBoston\, 49 Fairview Ave\, Watertown\, MA 02472 along with  an email to Gail at gcarroll@nvcboston.org \nRegister
URL:https://www.nvcboston.org/event/day-long-nvc-workshop/
LOCATION:MA
END:VEVENT
BEGIN:VEVENT
DTSTART;TZID=America/New_York:20161117T080000
DTEND;TZID=America/New_York:20161117T170000
DTSTAMP:20260425T175003
CREATED:20161117T230514Z
LAST-MODIFIED:20161117T230813Z
UID:2599-1479369600-1479402000@www.nvcboston.org
SUMMARY:Speaking Peace - an Evening Intro to NVC
DESCRIPTION:On Tuesday\, December 6th we will be offering an intro to NVC through So Just. \nHere is the link:  http://www.meetup.com/sojust-tm/events/235129154/ \nAre you tired of conversations that involve aggravation\, intimidation and manipulation? Want to communicate in a way that fosters respect\, peace and connection? \nJoin Socializing for Justice for a ProfDev introducing Nonviolent Communication on Tuesday\, December 6 from 6:00-8:30 PM.Learn the basic principles of NVC and a specific communication method that you’ll be able to apply right away! \nFee: $15 advance/ $30 door is split with the trainers.\nLimited space – register ahead of time.\nNewcomers always welcomed! \nSpeaking Peace – An Introduction to Nonviolent Communication\nNonviolent Communication (NVC) is a way of communicating that strengthens our ability to stay in touch with our humanity and get our needs met\, even under difficult circumstances. Instead of habitual responses\, our words become conscious responses based on a clear awareness of what we are observing\, feeling\, and wanting. We are led to express ourselves with honesty and clarity\, while paying respectful and empathic attention to others. Check out this brief intro video about NVC: https://www.youtube.com/watch?v=ZN8IZ6MPlNE \n \nABOUT OUR PRESENTERS \nGail Carroll and Paul Merrill As a CNVC certified trainer with NVC Boston\, Gail was drawn to NVC as a strategy to bring authenticity\, clarity and compassion into her professional and personal relationships.  She shares NVC with the transformative power of compassion as the foundation of her practice and teaching. Before moving to the Boston area\, Paul taught NVC in Boston\, New York City\, Belgium and Poland. He is a founding board member of Brooklyn NVC.  Paul is known for his creativity and humor in teaching NVC.  Paul and Gail are both co-trainers for Mediate Your Life\, a program for those wishing to use NVC to increase their ability to resolve personal and interpersonal conflicts.   They have  a private practice in the Boston area\, offering private clients/couples NVC empathy and mediation. More about Gail and Paul can be found at nvcboston.org. \n  \nSCHEDULE\n6:00-6:30 Socializing – bring your own dinner\n6:30-8:30 Training and Q&A \nDIRECTIONS – The NonProfit Center is located one block from South Station at 89 South Street. The Center is physically accessible through the main lobby. \n____________________________________________________
URL:https://www.nvcboston.org/event/speaking-peace-an-evening-intro-to-nvc/
LOCATION:NonProfit Center\, Boston\, MA\, United States
ORGANIZER;CN="Gail Carroll":MAILTO:GCARROLL@NVCBOSTON.ORG
END:VEVENT
BEGIN:VEVENT
DTSTART;TZID=America/New_York:20161029T100000
DTEND;TZID=America/New_York:20161029T170000
DTSTAMP:20260425T175003
CREATED:20160726T202704Z
LAST-MODIFIED:20161021T225729Z
UID:2485-1477735200-1477760400@www.nvcboston.org
SUMMARY:"NVC 201"
DESCRIPTION:“Nonviolent Communication 201“\nOctober 29\, 2016\n10am-5pm\nCambridge\, MA\n\nThis is an advanced beginners workshop for this who have done a workshop with us or with another certified NVC trainer. \nThe skill level we are looking for is the capacity to translate faux feelings\, to recognize interpretation in your observation\, and make empathy guesses of feelings and needs. \nWe have gotten requests to offer classes that go beyond introductions\, and this is it! In this all day class you will have the chance to improve your facility w NVC\, using your own conflicts within structured role plays. \nWe will focus on: \nTranslating hard to hear messages into feelings and needs \nDeepening empathic presence \nBuilding resilience and flexibility when triggered \nMaintaining connection while expressing authentically \nPaul Merrill has been teaching NVC for eight years. He brings to his classes his background and passion art\, design\, music\, and theater for a lively\, interactive learning experience. \nRegister
URL:https://www.nvcboston.org/event/nvc-integration-workshop/
LOCATION:Friends Meeting House\, 5 Longfellow\, Cambridge\, MA\, United States
ORGANIZER;CN="Gail Carroll":MAILTO:GCARROLL@NVCBOSTON.ORG
END:VEVENT
BEGIN:VEVENT
DTSTART;VALUE=DATE:20161015
DTEND;VALUE=DATE:20161016
DTSTAMP:20260425T175003
CREATED:20160908T002225Z
LAST-MODIFIED:20160923T203531Z
UID:2495-1476489600-1476575999@www.nvcboston.org
SUMMARY:"NVC 101"          A Day Long Workshop
DESCRIPTION:An introduction to the fundamentals of Nonviolent Communication\, as created by Dr Marshall Rosenberg. \nThrough interactive games and small group exercises you will be experience the basic concepts of NVC. \n\nThe importance and challenge of describing your world objectively.\nHow to distinguish between a feeling and an interpretation.\nNeeds as the building blocks of human connection.\nHow to ask for what we want in a way that it might even happen!\n\n  \nYou will see and feel how these simple tools allow us all to be heard in a way that is deeply satisfying\, and also how to remain connected with others\, even when we disagree. \nThis workshop will be led by NVC Trainer\, Paul Merrill. \nRegister
URL:https://www.nvcboston.org/event/day-long-workshop/
LOCATION:Friends Meeting House\, 5 Longfellow\, Cambridge\, MA\, United States
ORGANIZER;CN="Gail Carroll":MAILTO:GCARROLL@NVCBOSTON.ORG
END:VEVENT
BEGIN:VEVENT
DTSTART;TZID=America/New_York:20160910T100000
DTEND;TZID=America/New_York:20160910T170000
DTSTAMP:20260425T175003
CREATED:20160509T134719Z
LAST-MODIFIED:20160811T204041Z
UID:2291-1473501600-1473526800@www.nvcboston.org
SUMMARY:The Art of Empathy - a daylong\, interactive workshop
DESCRIPTION:Saturday\, September 10\, 2016  10a – 5p\nFriend’s Meeting House\, Longfellow Park\, Cambridge\, MA 0213 \nAn interactive\, daylong communication workshop based on the work of Marshall Rosenberg. \nDo you seem to have an intellectual understanding of NVC — maybe you have read the book or watched some videos — yet you still struggle to access compassion in the daily conflicts of life?  Would you like to increase your ability to empathize in the moment with yourself and others? \nThis workshop is designed for anyone new to NVC\, as well as for anyone with NVC experience that wishes to practice and deepen NVC skills. \nThe NVC process can be used in a wide variety of real-life situations\, and in most all relationships\, from intimate to professional. By understanding and acknowledging the human needs that underlie everyone’s words and actions\, we can create a shared basis for connection\, cooperation\, and peace. \nSome of the topics will be: \n\nDeepening Needs Consciousness\nBreaking down barriers to empathic connection\nLiving the NVC Model\n\nThe day will be a balanced combination of group instruction\, partner work and structured role play. \nIt is all about having access to empathy for ourselves and others in the moments when we need it most! \nFacilitated by CNVC certi1ied trainer Gail Carroll \nCost: $125     Early registration cost $115 if registered and paid by September 3rd \nTo Register: please send a check to NVCBoston\, 49 Fairview Ave\, Watertown\, MA 02472 and an email to Gail at gcarroll@nvcboston.org \n(If you prefer registering and paying online\, we are setting up a new online registration and payment system in August.) \nQuestions: email gcarroll@nvcboston.org \n 
URL:https://www.nvcboston.org/event/nonviolent-communication-workshops-and-classes/
LOCATION:Friends Meeting House\, 5 Longfellow\, Cambridge\, MA\, United States
END:VEVENT
BEGIN:VEVENT
DTSTART;TZID=America/New_York:20160521T100000
DTEND;TZID=America/New_York:20160521T170000
DTSTAMP:20260425T175003
CREATED:20151229T145338Z
LAST-MODIFIED:20160519T193057Z
UID:1892-1463824800-1463850000@www.nvcboston.org
SUMMARY:The Art of Empathy - A day long interactive workshop
DESCRIPTION:Questions: email   gcarroll@nvcboston.org \nAn interactive\, daylong communication workshop based on the work of Marshall Rosenberg. \n \nWould you like to increase your ability to empathize in the moment with yourself and others?\nDo you seem to have an intellectual understanding of NVC — maybe you have read the book or watched some videos — yet you still struggle to access compassion in the daily conflicts of life? \nPlease consider joining us for this day in which we will focus on transforming any judgmental thought by translating it into feelings and needs.\nIn group exercises and structured role plays you will be answering these two crucial questions:\nWhen I am judging something as wrong what emotion am I feeling and what values of mine are at stake?\nAnd that person who is doing/saying that thing I hate/fear\, what need are they trying to meet\, just like me?\nExperiencing these two transformative questions is the basis for an empathic relationship to oneself and others. It is also crucial in any productive dialogue or negotiation: we need to understand ourselves and hear others. \nThis workshop is designed for anyone new to NVC\, as well as for anyone with NVC experience that wishes to practice and deepen empathy skills.  It is all about having access to empathy for ourselves and others in the moments when we need it most! \nFacilitated by CNVC certi1ied trainer Gail Carroll and Paul Merrill Gail and Paul were both teachers of NVC when they met as continuing students in a year long NVC mediation program in 2010. Sharing a common language of NVC was crucial to remaining connected throughout the inevitable conIlicts of intimacy. In 2011\, they began to focus their NVC teaching on skills and practices they were using in their own relationship conflicts.\nCost: $125\nTo Register: please send a check for $125.00 to NVCBoston\, 49 Fairview Ave\, Watertown\, MA 02472  \nor \nsend payment to paypal:   payments@nvcboston.org\n\nFriend’s Meeting HouseLongfellow Park\, Cambridge\, MA  02138May 21\, 10a-5p \n\nQuestions: email gcarroll@nvcboston.org
URL:https://www.nvcboston.org/event/nvc-interactive-day-long-workshop/
LOCATION:Friends Meeting House\, 5 Longfellow\, Cambridge\, MA\, United States
ATTACH;FMTTYPE=image/png:https://www.nvcboston.org/wp-content/uploads/2015/12/art-of-empathy-workshop.png
END:VEVENT
BEGIN:VEVENT
DTSTART;TZID=America/New_York:20160319T100000
DTEND;TZID=America/New_York:20160319T170000
DTSTAMP:20260425T175003
CREATED:20151229T145100Z
LAST-MODIFIED:20160311T140255Z
UID:1890-1458381600-1458406800@www.nvcboston.org
SUMMARY:The Art of Empathy Workshop
DESCRIPTION:An interactive\, daylong communication workshop based on the work of Marshall Rosenberg. \nWould you like to increase your ability to empathize in the moment w yourself and others?\nDo you seem to have an intellectual understanding of NVC — maybe you have read the book or watched some videos — yet you still struggle to access compassion in the daily conflicts of life? \nPlease consider joining us for this day in which we will focus on transforming any judgmental thought by translating it into feelings and needs.\nIn group exercises and structured role plays you will be answering these two crucial questions:\nWhen I am judging something as wrong what emotion am I feeling and what values of mine are at stake?\nAnd that person who is doing/saying that thing I hate/fear\, what need are they trying to meet\, just like me?\nExperiencing these two transformative questions is the basis for an empathic relationship to oneself and others. It is also crucial in any productive dialogue or negotiation: we need to understand ourselves and hear others. \nThis workshop will be taught by NVC Trainer\, Paul Merrill. \n  \nYou can register through Eventbrite:  https://www.eventbrite.com/e/the-art-of-empathy-workshop-tickets-20254743483 \n– or save the fees  by emailing Gcarroll@nvcboston.org and sending a check to NVCBoston\, 49 Fairview Ave\, Watertown\, MA 02472
URL:https://www.nvcboston.org/event/speaking-peace/
LOCATION:Friends Meeting House\, 5 Longfellow\, Cambridge\, MA\, United States
ORGANIZER;CN="Gail Carroll":MAILTO:GCARROLL@NVCBOSTON.ORG
END:VEVENT
BEGIN:VEVENT
DTSTART;TZID=America/New_York:20160116T100000
DTEND;TZID=America/New_York:20160116T170000
DTSTAMP:20260425T175003
CREATED:20151216T233022Z
LAST-MODIFIED:20151217T010719Z
UID:1869-1452938400-1452963600@www.nvcboston.org
SUMMARY:Living Nonviolently at Home
DESCRIPTION:An interactive\, daylong workshop on compassionate communication based on the work of Marshall Rosenberg. \nThe NVC process can be used in a wide variety of real-life situations\, and in most all relationships\, from intimate to professional. By understanding and acknowledging the human needs that underlie everyone’s words and actions\, we can create a shared basis for connection\, cooperation\, and peace. \nThis “level 1” workshop is ideal for those who are new to NVC as well as those who have been introduced to the core NVC principles\, and who are ready to begin putting this understanding into action.* \nSome of the topics will be: \n\nDeepening Needs Consciousness\nBreaking down barriers to empathic connection\nUsing requests to stay in a difficult dialogue\n\nThe day will be a balanced combination of group instruction\, partner work and structured role play. \nCLICK HERE TO REGISTER > \nWhen: Saturday\, January 16\, 2014\, 10am – 5pm \nLocation: Friend’s Meeting House\, 5 Longfellow Park Cambridge\, MA \nCost: $95\, if registered by January 9        After January 9: $ 115
URL:https://www.nvcboston.org/event/living-nonviolently-at-home/
LOCATION:Friends Meeting House\, 5 Longfellow Park\, Cambridge\, MA\, 02138\, United States
CATEGORIES:Workshop
ATTACH;FMTTYPE=image/jpeg:https://www.nvcboston.org/wp-content/uploads/2015/12/at-home-e1483383709815.jpg
ORGANIZER;CN="Gail Carroll":MAILTO:GCARROLL@NVCBOSTON.ORG
END:VEVENT
END:VCALENDAR