BEGIN:VCALENDAR
VERSION:2.0
PRODID:-//NVC Boston - ECPv6.15.20//NONSGML v1.0//EN
CALSCALE:GREGORIAN
METHOD:PUBLISH
X-WR-CALNAME:NVC Boston
X-ORIGINAL-URL:https://www.nvcboston.org
X-WR-CALDESC:Events for NVC Boston
REFRESH-INTERVAL;VALUE=DURATION:PT1H
X-Robots-Tag:noindex
X-PUBLISHED-TTL:PT1H
BEGIN:VTIMEZONE
TZID:America/New_York
BEGIN:DAYLIGHT
TZOFFSETFROM:-0500
TZOFFSETTO:-0400
TZNAME:EDT
DTSTART:20150308T070000
END:DAYLIGHT
BEGIN:STANDARD
TZOFFSETFROM:-0400
TZOFFSETTO:-0500
TZNAME:EST
DTSTART:20151101T060000
END:STANDARD
BEGIN:DAYLIGHT
TZOFFSETFROM:-0500
TZOFFSETTO:-0400
TZNAME:EDT
DTSTART:20160313T070000
END:DAYLIGHT
BEGIN:STANDARD
TZOFFSETFROM:-0400
TZOFFSETTO:-0500
TZNAME:EST
DTSTART:20161106T060000
END:STANDARD
BEGIN:DAYLIGHT
TZOFFSETFROM:-0500
TZOFFSETTO:-0400
TZNAME:EDT
DTSTART:20170312T070000
END:DAYLIGHT
BEGIN:STANDARD
TZOFFSETFROM:-0400
TZOFFSETTO:-0500
TZNAME:EST
DTSTART:20171105T060000
END:STANDARD
END:VTIMEZONE
BEGIN:VEVENT
DTSTART;TZID=America/New_York:20160116T100000
DTEND;TZID=America/New_York:20160116T170000
DTSTAMP:20260425T210801
CREATED:20151216T233022Z
LAST-MODIFIED:20151217T010719Z
UID:1869-1452938400-1452963600@www.nvcboston.org
SUMMARY:Living Nonviolently at Home
DESCRIPTION:An interactive\, daylong workshop on compassionate communication based on the work of Marshall Rosenberg. \nThe NVC process can be used in a wide variety of real-life situations\, and in most all relationships\, from intimate to professional. By understanding and acknowledging the human needs that underlie everyone’s words and actions\, we can create a shared basis for connection\, cooperation\, and peace. \nThis “level 1” workshop is ideal for those who are new to NVC as well as those who have been introduced to the core NVC principles\, and who are ready to begin putting this understanding into action.* \nSome of the topics will be: \n\nDeepening Needs Consciousness\nBreaking down barriers to empathic connection\nUsing requests to stay in a difficult dialogue\n\nThe day will be a balanced combination of group instruction\, partner work and structured role play. \nCLICK HERE TO REGISTER > \nWhen: Saturday\, January 16\, 2014\, 10am – 5pm \nLocation: Friend’s Meeting House\, 5 Longfellow Park Cambridge\, MA \nCost: $95\, if registered by January 9        After January 9: $ 115
URL:https://www.nvcboston.org/event/living-nonviolently-at-home/
LOCATION:Friends Meeting House\, 5 Longfellow Park\, Cambridge\, MA\, 02138\, United States
CATEGORIES:Workshop
ATTACH;FMTTYPE=image/jpeg:https://www.nvcboston.org/wp-content/uploads/2015/12/at-home-e1483383709815.jpg
ORGANIZER;CN="Gail Carroll":MAILTO:GCARROLL@NVCBOSTON.ORG
END:VEVENT
END:VCALENDAR